BEGIN:VCALENDAR
VERSION:2.0
PRODID:-//Bundesverband Lebensrecht - ECPv6.15.20//NONSGML v1.0//EN
CALSCALE:GREGORIAN
METHOD:PUBLISH
X-WR-CALNAME:Bundesverband Lebensrecht
X-ORIGINAL-URL:https://bundesverband-lebensrecht.de
X-WR-CALDESC:Veranstaltungen für Bundesverband Lebensrecht
REFRESH-INTERVAL;VALUE=DURATION:PT1H
X-Robots-Tag:noindex
X-PUBLISHED-TTL:PT1H
BEGIN:VTIMEZONE
TZID:Europe/Paris
BEGIN:DAYLIGHT
TZOFFSETFROM:+0100
TZOFFSETTO:+0200
TZNAME:CEST
DTSTART:20250330T010000
END:DAYLIGHT
BEGIN:STANDARD
TZOFFSETFROM:+0200
TZOFFSETTO:+0100
TZNAME:CET
DTSTART:20251026T010000
END:STANDARD
BEGIN:DAYLIGHT
TZOFFSETFROM:+0100
TZOFFSETTO:+0200
TZNAME:CEST
DTSTART:20260329T010000
END:DAYLIGHT
BEGIN:STANDARD
TZOFFSETFROM:+0200
TZOFFSETTO:+0100
TZNAME:CET
DTSTART:20261025T010000
END:STANDARD
BEGIN:DAYLIGHT
TZOFFSETFROM:+0100
TZOFFSETTO:+0200
TZNAME:CEST
DTSTART:20270328T010000
END:DAYLIGHT
BEGIN:STANDARD
TZOFFSETFROM:+0200
TZOFFSETTO:+0100
TZNAME:CET
DTSTART:20271031T010000
END:STANDARD
END:VTIMEZONE
BEGIN:VEVENT
DTSTART;TZID=Europe/Paris:20260424T174500
DTEND;TZID=Europe/Paris:20260426T123000
DTSTAMP:20260423T071020
CREATED:20260422T141155Z
LAST-MODIFIED:20260422T141332Z
UID:7888-1777052700-1777206600@bundesverband-lebensrecht.de
SUMMARY:Ärzte für das Leben e.V.: „Das Unsichtbare sichtbar machen“ 24. bis 26. April 2026 in Würzburg
DESCRIPTION:31. Jahrestagung und Mitgliederversammlung Ärzte für das Leben e.V.\nLiebe Kolleginnen und Kollegen\, liebe Freunde des Lebens\, \n„Unsichtbares sichtbar machen“ ist ein Pilotprojekt unseres neuen Teams. Damit die Jahrestagung Ihrer Zeit und Anreise würdig wird\, haben wir das Programm für ein ganzes Wochenende vorbereitet.\nDr. Fourier\, Dr. Rack und Dr. Aschenbrenner haben ein ausgewogenes Angebot zusammengestellt\, das das Unsichtbare auf zweifache Weise sichtbar zeigen soll. Erstens führen uns Fachspezialisten in weniger bekannte Aspekte der vorgeburtlichen Menschenentwicklung ein. Und zweitens soll auch genug Raum vorhanden sein\, lebensbejahende Kollegen kennenzulernen\, die in unserem Alltag und der Gesellschaft oft ebenfalls unsichtbar zu sein scheinen. Einer unserer Referenten kann aus erster Hand berichten\, welche Schwierigkeiten eine Offenbarung des eigenen Gewissens heutzutage nach sich ziehen kann. \nDes Weiteren haben wir das erste Mal ein Patenschaftsprogramm entworfen\, das insbesondere Medizinstudenten ermöglichen soll\, ein Netzwerk gleichgesinnter Kollegen zu entdecken und Halt für den medizinischen Alltag zu gewinnen. \nLassen Sie uns gemeinsam das Unsichtbare entdecken und für andere Kollegen sichtbar machen. \nZuzana Kirschberger\n1. Vorsitzender\, Ärzte für das Leben \nFreitag\, 24. bis Sonntag\, 26. April 2026 in Würzburg\nPROGRAMM\nFreitag\, 24. April 2026\nBis 17:45 Uhr Anreise. Treffen im Tagungshotel. Hinweise an der Rezeption. \n18.00Uhr Gemeinsames Abendessen \n19:15 Uhr Begrüßung und Tagungseröffnung durch die 1. Vorsitzende \n19:30 – 21:00 Uhr ´Mehr als ein Zellhaufen´\n– Wie wir konstruktiv über Abtreibung sprechen können\nSabina Scherer\, Psychologin\, Buchautorin\, Mutter\nvon 2 Kindern – Anschließende Diskussion \nab 21:00 Uhr Zusammensein bei Canapés und Getränken \nSamstag\, 25. April 2026\n9.00 Uhr Die Bedeutung der vorgeburtlichen Lebenszeit für den Menschen\nDr. med. Rupert Linder\, Facharzt für Gynäkologie & Psychosomatik und Psychotherapie \n10.10 Uhr Kinderwunsch und Reproduktionsmedizin: Was sagen Medizin\, Sozialethik und Kirchen?\nProf. Dr. Manfred Spieker\, Sozialethiker \n11:50 Uhr Mitgliederversammlung „Ärzte für das Leben e. V.“ \n13:00 Uhr Gemeinsames Mittagessen \n14:30 Uhr Führung in der Residenz Würzburg (UNESCO Weltkulturerbe) \n16.15 Uhr Podiumsdiskussion mit allen Referenten\nModeration Prof. Dr. med. Paul Cullen \n18.00 Uhr Gemeinsames Abendessen \n19:00 Uhr Ökumenischer Gottesdienst \n20:30 Uhr Klassisches Konzert mit Cello und Klavier: BRUDER-DUO: UN SOSPIRO (Musik aus Klassik und Romantik)\nAnschließend Ausklang im Speisesaal \nSonntag\, 26. April 2026\n10:00 Uhr Heilige Messe im Dom oder evangelischer Gottesdienst in der Thomaskirche \n11:15 Uhr Highlightvortrag: Der ungeborene Mensch als ein Organismus in einem Organismus- ein biologisches\, ethisches und politisches Spannungsfeld zwischen Autonomie und Abhängigkeit \n12:30 Uhr gemeinsames Mittagessen\, Abreise \nOrganisatorisches:\nHinweis: Für weitere Informationen zur Tagung und Veranstaltungsort sowie Übernachtungsmöglichkeiten wenden Sie sich bitte direkt an uns: geschaeftsstelle(at)aerzte-fuer-das-leben.de \nTeilnahmegebühr regulär: 190 €\n(Verpflegung 125 € + Referenten und Kulturelles 65 €) \nTeilnahmegebühr Student: 50 €\n(durch Patenschaften wir auch die Übernachtung abgedeckt) \nTagesticket Samstag: 140 €\nZuschuss für junge Familien möglich\n(50% Teilnahmegebühr & Übernachtung) \nKinderbetreuung bei Voranmeldung bis zum 28.2.2026 \nPatenschaften\nStudenten erhalten durch das Patenschaftsprogramm die reduzierte Teilnahmegebühr und kostenlose Übernachtungen. \nAnmeldeschluss 28.2.2026\n(Weitere Patenkandidaten können sich gerne bei der Geschäftsstelle melden.) \nBitte die Teilnahmegebühr unter Angabe des Verwendungszwecks „Jahrestagung 2026“ auf das Konto des Vereins „Ärzte für das Leben“\, Sparkasse Mittelbrandenburg\, IBAN: DE86 1605 0000 1000 6458 66 überweisen. (Entrichtung in bar bei der Tagung im Bedarfsfall auch möglich.) Eine Quittung für Steuerzwecke ist bei der Tagung erhältlich. \nEs wurden Zimmerkontingente im Tagungshaus und anderen Hotels bis zum 24. März 2026 vorreserviert. Weitere Informationen erfahren Sie über die Geschäftsstelle. \nANMELDUNG\nDetailliertere Informationen zur Veranstaltung erhalten Sie per E-Mail nach der Anmeldung. \nBitte melden Sie sich per Mail an unter geschaeftsstelle(at)aerzte-fuer-das-leben.de\, per Post an: Ärzte für das Leben e.V. ℅ BVL\, Landgrafenstraße 5\, 10787 Berlin\noder hier direkt online per Formular: \nAnmeldung zur Jahrestagung der Ärzte für das Leben e.V. 2026
URL:https://bundesverband-lebensrecht.de/event/aerzte-fuer-das-leben-e-v-das-unsichtbare-sichtbar-machen-24-bis-26-april-2026-in-wuerzburg/
LOCATION:Würzburg
CATEGORIES:Fachtagung
END:VEVENT
BEGIN:VEVENT
DTSTART;TZID=Europe/Paris:20260612T123000
DTEND;TZID=Europe/Paris:20260612T180000
DTSTAMP:20260423T071020
CREATED:20260421T142654Z
LAST-MODIFIED:20260422T100705Z
UID:7868-1781267400-1781287200@bundesverband-lebensrecht.de
SUMMARY:Jahrestagung der JVL am 12. Juni 2026
DESCRIPTION:PDF-Einladung zur Jahrestagung der JVL am 12. Juni 2026 \n\nHerzlich laden wir ein zur Jahrestagung der Juristen-Vereinigung Lebensrecht am \nFreitag\, den 12. Juni 2026\nvon 12.30 Uhr bis ca. 18 Uhr \nin Berlin\, martas Gästehäuser Hauptbahnhof Berlin\nSeydlitzstraße 20\, 10557 Berlin \nBei der Tagung werden die nachfolgenden Themen \nAktuelle Fragen der Organtransplantation\nPro & Contra Widerspruchslösung\nOrganspende nach Kreislaufstillstand (DCD) \nvon und mit folgenden Referenten behandelt: \n\n\n\n\n\nProf. Dr. med. Hans Theiss MdB\,\nMünchen/Berlin: \n\n  \nPlädoyer für die Widerspruchslösung bei der Organspende \n\n\n\n\n\n\n\nDr. iur. Rainer Beckmann\nAbteilungsleiter f. d. richterl. Bereitschaftsdienst am Amtsgericht Würzburg: \n\nWiderspruch gegen die Widerspruchslösung \n\n\n\n\n\n\n\nProf. Dr. med. Klaus Hahnenkamp \nSprecher der Sektion „Organspende und Organtransplantation“ der DIVI und Mitglied der Ständigen Kommission Organtransplantation der Bundesärztekammer \n\nPlädoyer für die Einführung der „Spende nach Kreislaufstillstand“ (DCD\, Donation after Cardiac Death/Donation after Circulatory Determination of Death) \n\n\n\n\n\n\n\nProf. Dr. iur. Gunnar Duttge \nDirektor der Abteilung für strafrechtliches Medizin- und Biorecht\, Universität Göttingen \nRechtliche und rechtsethische Implikationen einer Einführung der DCD-Spende in Deutschland \n\n\n\nNach den Referaten findet zwischen den jeweiligen Referenten jeweils ein Streitgespräch statt\, das von Herrn Rechtsanwalt Prof. Dr. Oliver Tolmein moderiert wird. Prof. Tolmein war lange Jahre hauptberuflich als Journalist tätig. Er ist Fachanwalt für Medizinrecht\, Gründungspartner der „Menschen und Rechte – Assoziation freier Rechtsanwält*innen“ und Honorarprofessor an der Universität Göttingen. \nBitte melden Sie sich zu der Tagung via E-Mail an info@jvl-ev.de an. \nProf. Dr. Christian Hillgruber\nVorsitzender der Juristen-Vereinigung Lebensrecht e.V.
URL:https://bundesverband-lebensrecht.de/event/einladung-zur-jahrestagung-der-jvl-am-12-juni-2026/
LOCATION:Berlin\, martas Gästehäuser Hauptbahnhof Berlin Seydlitzstraße 20\, 10557 Berlin
END:VEVENT
END:VCALENDAR